BEGIN:VCALENDAR
VERSION:2.0
CALSCALE:GREGORIAN
PRODID:-//MyApp//Calendar 1.0//EN
BEGIN:VEVENT
METHOD:PUBLISH
UID:60476@regionalniportaly.cz
DTSTAMP:20260422T193036Z
DTSTART;VALUE=DATE:20260821
DTEND;VALUE=DATE:20260822
SUMMARY:Narozeninový koncert Karel Kahovec a The Beatles Revival
DESCRIPTION:Narozeninový koncert legendárního Karla Kahovce 2026!&nbsp\;v pátek 21.8.2026 areál VOSTROV Open Air - Mnichovo HradištěZveme vás na výjimečný hudební večer\, kde své životní jubileum oslaví nezaměnitelný Karel Kahovec – ikona českého bigbítu a jeden z nejvýraznějších hlasů své generace.Na jednom pódiu se představí společně se skupinou The Beatles Revival\, která koncert obohatí o nesmrtelné hity slavných „Brouků“.Můžete se těšit na největší Kahovcovy písně\, mezi nimi například:Háj ModřínůPaní v černémSvou lásku jsem rozdalPoprava blond holkyA samozřejmě nebudou chybět legendární skladby The Beatles\, které dodají večeru jedinečnou atmosféru.Součástí koncertu bude také vzpomínka na Petra Nováka\, jednoho z největších hlasů české hudby. Připomeneme si jeho nezapomenutelné hity:PovídejHvězdičko blýskaváJá budu chodit po špičkáchNáhrobní kámenPřijďte zažít večer plný emocí\, velkých hitů a pocty třem hudebním legendám.Tahle narozeninová oslava bude stát za to!&nbsp\;V případě eventuálního úmrtí Karla Kahovce (např. předávkování Viagrou) se koncert koná jako vzpomínka na Karla.
LOCATION:Mnichovo Hradiště
END:VEVENT
END:VCALENDAR