BEGIN:VCALENDAR
VERSION:2.0
CALSCALE:GREGORIAN
PRODID:-//MyApp//Calendar 1.0//EN
BEGIN:VEVENT
METHOD:PUBLISH
UID:65642@regionalniportaly.cz
DTSTAMP:20260422T175021Z
DTSTART;VALUE=DATE:20261019
DTEND;VALUE=DATE:20261020
SUMMARY:Standa Klapuch - Na křídlech andělů / Tour 2026
DESCRIPTION:STANDA KLAPUCHJsem hudebník a skladatel. Inspiraci čerpám především v přírodě a skrze svou hudbu vyjadřuji klid a harmonii\, které v ní nacházím. Prostřednictvím hudby vytvářím prostor pro odpočinek a relaxaci.&nbsp\;Mé autorské skladby Ti pomohou zpomalit\, nadechnout se a vrátit se k sobě.&nbsp\;TOUR 2026 / Na křídlech andělů / On Angel's Wings s vesmírnou pojekcí.Na jaře 2026 vyráží Standa Klapuch na své první turné a ty můžeš být u toho. Čeká tě 90. minutový koncert plný krásných melodií.&nbsp\;"On Angel's Wings" propojuje klavír\, éterické zvuky\, jemné hlasy a klidný rytmus do jedinečné krajiny vnitřního míru. Je to průvodce chvílemi\, kdy se chceš ponořit do sebe a nechat vše plynout.
LOCATION:Mnichovo Hradiště
END:VEVENT
END:VCALENDAR